BEGIN:VCALENDAR
VERSION:2.0
PRODID:-//ChamberMaster//Event Calendar 2.0//EN
METHOD:PUBLISH
X-PUBLISHED-TTL:P1H
REFRESH-INTERVAL:P1H
CALSCALE:GREGORIAN
BEGIN:VTIMEZONE
TZID:America/Chicago
BEGIN:DAYLIGHT
RRULE:FREQ=YEARLY;BYMONTH=3;BYDAY=2SU
DTSTART:20070101T000000
TZOFFSETFROM:-0600
TZOFFSETTO:-0500
TZNAME:Central Daylight Time
END:DAYLIGHT
BEGIN:STANDARD
RRULE:FREQ=YEARLY;BYMONTH=11;BYDAY=1SU
DTSTART:20070101T000000
TZOFFSETFROM:-0500
TZOFFSETTO:-0600
TZNAME:Central Standard Time
END:STANDARD
END:VTIMEZONE
BEGIN:VEVENT
DTSTART;TZID=America/Chicago:20240125T130000
DTEND;TZID=America/Chicago:20240125T160000
X-MICROSOFT-CDO-ALLDAYEVENT:FALSE
SUMMARY:Beyond Fair Housing CE
DESCRIPTION:Beyond Fair Housing with instructor Michele Sloan with First Choice School of Real Estate will be held on January 25 at the Montgomery Bank Conference & Training Center in Jackson. Updated! Meets 2022-2024 MREC Renewal Requirement.This 3-hour Core course includes an overview of the Federal Fair Housing Act\, advertising\, buyer "love letters"\, new interpretations of reasonable accommodations\, Missouri Non-discrimination Act (MONA)\, the recent addition to the Code of Ethics   new standard of practice 10-5\, web site content accessibility guidelines\, litigation involving discriminatory practices and so much more. Lots going on out there   make sure you are in the loop!!(3 hours of CE - core)This is part of a 12 hour CE class offering on 1/24/24 and 1/25/24. There are 4 classes (3 hours each of CE)Register by Monday\, January 15\, 2024 to Early Bird Special of $25 a person (3 hours of CE).Tuesday\, January 16\, 2024 pricing will be $30 a person (3 hours of CE)Cancellation Policy:  Cancellation of class must be done online or received in writing 24-hours in advance of the class in order to receive a refund or to reschedule to another class. No refunds or transfers of payments will be granted for canceling the day of the class\, failing to show for class or arriving late to the class.
X-ALT-DESC;FMTTYPE=text/html:<!DOCTYPE html><html><head><title></title></head><body aria-disabled="false"><p><span style="font-size: 14px\; font-family: Verdana\, Geneva\, sans-serif\;">Beyond Fair Housing with instructor Michele Sloan with First Choice School of Real Estate will be held on January 25 at the Montgomery Bank Conference &amp\; Training Center in Jackson.&nbsp\;</span></p><p style="scroll-behavior: auto !important\; margin: 0px\; color: rgb(34\, 34\, 34)\; font-family: Arial\, Helvetica\, sans-serif\; font-size: small\; font-style: normal\; font-variant-ligatures: normal\; font-variant-caps: normal\; font-weight: 400\; letter-spacing: normal\; orphans: 2\; text-align: start\; text-indent: 0px\; text-transform: none\; widows: 2\; word-spacing: 0px\; -webkit-text-stroke-width: 0px\; white-space: normal\; background-color: rgb(255\, 255\, 255)\; text-decoration-thickness: initial\; text-decoration-style: initial\; text-decoration-color: initial\;"><span style="font-family: Verdana\,Geneva\,sans-serif\;"><span style="font-size: 14px\;"><strong fr-original-style="" style="font-weight: 700\;">Updated! Meets 2022-2024 MREC Renewal Requirement.</strong></span></span></p><p><span style="font-family: Verdana\,Geneva\,sans-serif\;"><span style="font-size: 14px\;">This 3-hour Core course includes an overview&nbsp\;of the Federal Fair Housing Act\, advertising\,&nbsp\;buyer &quot\;love letters&quot\;\, new interpretations of&nbsp\;reasonable accommodations\, Missouri Non-discrimination Act (MONA)\, the recent&nbsp\;addition to the Code of Ethics &ndash\; new standard&nbsp\;of practice 10-5\, web site content accessibility&nbsp\;guidelines\, litigation involving discriminatory&nbsp\;practices and so much more. Lots going on out&nbsp\;there &ndash\; make sure you are in the loop!!</span></span></p><p style="scroll-behavior: auto !important\; margin: 0px\; color: rgb(34\, 34\, 34)\; font-family: Arial\, Helvetica\, sans-serif\; font-size: small\; font-style: normal\; font-variant-ligatures: normal\; font-variant-caps: normal\; font-weight: 400\; letter-spacing: normal\; orphans: 2\; text-align: start\; text-indent: 0px\; text-transform: none\; widows: 2\; word-spacing: 0px\; -webkit-text-stroke-width: 0px\; white-space: normal\; background-color: rgb(255\, 255\, 255)\; text-decoration-thickness: initial\; text-decoration-style: initial\; text-decoration-color: initial\;"><span style="font-family: Verdana\,Geneva\,sans-serif\;"><span style="font-size: 14px\;">(3 hours of CE - core)</span></span></p><p><span style="font-family: Verdana\,Geneva\,sans-serif\;"><span style="font-size: 14px\;">This is part of a 12 hour CE class offering on 1/24/24 and 1/25/24. There are 4 classes (3 hours each of CE)</span></span></p><p><span style="font-family: Verdana\,Geneva\,sans-serif\;"><span style="font-size: 14px\;">Register by Monday\, January 15\, 2024 to Early Bird Special of $25 a person (3 hours of CE).</span></span></p><p><span style="font-family: Verdana\,Geneva\,sans-serif\;"><span style="font-size: 14px\;">Tuesday\, January 16\, 2024 pricing will be $30 a person (3 hours of CE)</span></span></p><p><span style="font-size: 14px\; font-family: Verdana\, Geneva\, sans-serif\;"><span style="color: rgb(0\, 0\, 0)\; background-color: transparent\; font-weight: bold\; font-style: normal\; font-variant-ligatures: normal\; font-variant-caps: normal\; letter-spacing: normal\; orphans: 2\; text-align: left\; text-indent: 0px\; text-transform: none\; widows: 2\; word-spacing: 0px\; -webkit-text-stroke-width: 0px\; white-space: normal\; text-decoration-thickness: initial\; text-decoration-style: initial\; text-decoration-color: initial\; scroll-behavior: auto !important\;">Cancellation Policy:</span><span style="color: rgb(0\, 0\, 0)\; background-color: transparent\; font-weight: 400\; font-style: normal\; font-variant-ligatures: normal\; font-variant-caps: normal\; letter-spacing: normal\; orphans: 2\; text-align: left\; text-indent: 0px\; text-transform: none\; widows: 2\; word-spacing: 0px\; -webkit-text-stroke-width: 0px\; white-space: normal\; text-decoration-thickness: initial\; text-decoration-style: initial\; text-decoration-color: initial\; scroll-behavior: auto !important\;">&nbsp\; Cancellation of class must be done online or received in writing 24-hours in advance of the class in order to receive a refund or to reschedule to another class. No refunds or transfers of payments will be granted for canceling the day of the class\, failing to show for class or arriving late to the class.&nbsp\;</span></span></p><p><strong fr-original-style="" style="font-weight: 700\;"><span style='font-size: 18px\; font-family: "Times New Roman"\, Times\, serif\, -webkit-standard\;'><br></span></strong></p><p><strong fr-original-style="" style="font-weight: 700\;"><br></strong></p><p><br></p></body></html>
LOCATION:526 West Main Street Jackson MO 63755
UID:e.2056.904690
SEQUENCE:3
DTSTAMP:20260421T093555Z
URL:https://members.semorealtors.org/events/Details/beyond-fair-housing-ce-1020335?sourceTypeId=Hub
END:VEVENT
END:VCALENDAR
